Workbook

Sheet Titelblatt
C30: Bezirksschiessen
C33: Einzelwettschiessen
C36: Kantonalstich (HD)
C39: Feldschiessen (nur Feld D)
C45: Sektion: | J45: MS Muster
C50: Ort & Datum: | J50: Bülach, 10.10.2026
C53: Unterschrift: | J53: Gezeichnet
C57: Meldeschluss: 20. Oktober 2026 | S57: Senden an: | Y57: Burgener Rene
Y58: Quentlistrasse 86
Y59: 8193 Eglisau
Y61: r.burgener61@gmail.com

Sheet Resultate
C6: Vereinsname: | I6: =Titelblatt!J45 -> MS Muster
B9: Waffe | C9: Name | I9: Vorname | O9: JG | P9: Verein | Q9: Bez-Schiessen | R9: EWS | S9: Distanz | T9: Kant. Stich | U9: Distanz | V9: Feldschiessen | W9: Distanz | X9: Total
B12: OP | C12: Muster | I12: Heinz | O12: 1980 | P12: =IF(O12>0,$I$6,"") -> MS Muster | Q12: 90 | R12: 141 | S12: 25m | T12: 85 | U12: 50m | V12: 67 | W12: 25m | X12: =SUM(Q12:V12) -> 383
B13: RF | C13: Meier | I13: Karl | O13: 1987 | P13: =IF(O13>0,$I$6,"") -> MS Muster | Q13: 96 | R13: 187 | S13: 50m | T13: 92 | U13: 50m | V13: 67 | W13: 25m | X13: =SUM(Q13:V13) -> 442
B14: CF | C14: Müller | I14: Franz | O14: 0 | P14: =IF(O14>0,$I$6,"") | Q14: 0 | R14: 0 | T14: 0 | V14: 0 | X14: =SUM(Q14:V14) -> 0
P15: =IF(O15>0,$I$6,"") | Q15: 0 | R15: 0 | T15: 0 | V15: 0 | X15: =SUM(Q15:V15) -> 0
P16: =IF(O16>0,$I$6,"") | Q16: 0 | R16: 0 | T16: 0 | V16: 0 | X16: =SUM(Q16:V16) -> 0
P17: =IF(O17>0,$I$6,"") | Q17: 0 | R17: 0 | T17: 0 | V17: 0 | X17: =SUM(Q17:V17) -> 0
P18: =IF(O18>0,$I$6,"") | Q18: 0 | R18: 0 | T18: 0 | V18: 0 | X18: =SUM(Q18:V18) -> 0
P19: =IF(O19>0,$I$6,"") | Q19: 0 | R19: 0 | T19: 0 | V19: 0 | X19: =SUM(Q19:V19) -> 0
P20: =IF(O20>0,$I$6,"") | Q20: 0 | R20: 0 | T20: 0 | V20: 0 | X20: =SUM(Q20:V20) -> 0
P21: =IF(O21>0,$I$6,"") | Q21: 0 | R21: 0 | T21: 0 | V21: 0 | X21: =SUM(Q21:V21) -> 0
P22: =IF(O22>0,$I$6,"") | Q22: 0 | R22: 0 | T22: 0 | V22: 0 | X22: =SUM(Q22:V22) -> 0
P23: =IF(O23>0,$I$6,"") | Q23: 0 | R23: 0 | T23: 0 | V23: 0 | X23: =SUM(Q23:V23) -> 0
P24: =IF(O24>0,$I$6,"") | Q24: 0 | R24: 0 | T24: 0 | V24: 0 | X24: =SUM(Q24:V24) -> 0
P25: =IF(O25>0,$I$6,"") | Q25: 0 | R25: 0 | T25: 0 | V25: 0 | X25: =SUM(Q25:V25) -> 0
P26: =IF(O26>0,$I$6,"") | Q26: 0 | R26: 0 | T26: 0 | V26: 0 | X26: =SUM(Q26:V26) -> 0
... P42: =IF(O42>0,$I$6,"") | Q42: 0 | R42: 0 | T42: 0 | V42: 0 | X42: =SUM(Q42:V42) -> 0

Sheet Tabelle1

Sheet Auswertung
C1: Auswertung
A3: Rang | B3: Feld | C3: Name | D3: Vorname | G3: Bez. | H3: Einzelwett | I3: Kantonal | J3: FS | K3: Total
B4: =Resultate!B12 -> OP | C4: =Resultate!C12 -> Muster | D4: =Resultate!I12 -> Heinz | E4: =Resultate!O12 -> 1980 | F4: =Resultate!$I$6 -> MS Muster | G4: =Resultate!Q12 -> 90 | H4: =Resultate!R12 -> 141 | I4: =Resultate!T12 -> 85 | J4: =Resultate!V12 -> 67 | K4: =Resultate!X12 -> 383 | L4: =_xlfn.RANK.EQ(K4,$K$4:$K$7,0) -> 2 | N4: hub | O4: 220 | P4: =_xlfn.RANK.EQ(O4,$O$4:$O$8,0) -> 3
A5: 2 | B5: =Resultate!B13 -> RF | C5: =Resultate!C13 -> Meier | D5: =Resultate!I13 -> Karl | E5: =Resultate!O13 -> 1987 | F5: =Resultate!$I$6 -> MS Muster | G5: =Resultate!Q13 -> 96 | H5: =Resultate!R13 -> 187 | I5: =Resultate!T13 -> 92 | J5: =Resultate!V13 -> 67 | K5: =Resultate!X13 -> 442 | L5: =_xlfn.RANK.EQ(K5,$K$4:$K$7,0) -> 1 | N5: gr | O5: 266
A6: 3 | B6: =Resultate!B14 -> CF | C6: =Resultate!C14 -> Müller | D6: =Resultate!I14 -> Franz | E6: =Resultate!O14 -> 0 | F6: =Resultate!$I$6 -> MS Muster | G6: =Resultate!Q14 -> 0 | H6: =Resultate!R14 -> 0 | I6: =Resultate!T14 -> 0 | J6: =Resultate!V14 -> 0 | K6: =Resultate!X14 -> 0 | L6: =_xlfn.RANK.EQ(K6,$K$4:$K$7,0) -> 3 | N6: f | O6: 292
A7: 4 | B7: =Resultate!B15 -> 0 | C7: =Resultate!C15 -> 0 | D7: =Resultate!I15 -> 0 | E7: =Resultate!O15 -> 0 | F7: =Resultate!$I$6 -> MS Muster | G7: =Resultate!Q15 -> 0 | H7: =Resultate!R15 -> 0 | I7: =Resultate!T15 -> 0 | J7: =Resultate!V15 -> 0 | K7: =Resultate!X15 -> 0 | L7: =_xlfn.RANK.EQ(K7,$K$4:$K$7,0) -> 3 | N7: n | O7: 190
A8: 5 | B8: =Resultate!B16 -> 0 | C8: =Resultate!C16 -> 0 | D8: =Resultate!I16 -> 0 | E8: =Resultate!O16 -> 0 | F8: =Resultate!$I$6 -> MS Muster | G8: =Resultate!Q16 -> 0 | H8: =Resultate!R16 -> 0 | I8: =Resultate!T16 -> 0 | J8: =Resultate!V16 -> 0 | K8: =Resultate!X16 -> 0 | L8: =_xlfn.RANK.EQ(K8,$K$4:$K$7,0) -> 3 | N8: rt | O8: 200
A9: 6 | B9: =Resultate!B17 -> 0 | C9: =Resultate!C17 -> 0 | D9: =Resultate!I17 -> 0 | E9: =Resultate!O17 -> 0 | F9: =Resultate!$I$6 -> MS Muster | G9: =Resultate!Q17 -> 0 | H9: =Resultate!R17 -> 0 | I9: =Resultate!T17 -> 0 | J9: =Resultate!V17 -> 0 | K9: =Resultate!X17 -> 0 | L9: =_xlfn.RANK.EQ(K9,$K$4:$K$7,0) -> 3
A10: 7 | B10: =Resultate!B18 -> 0 | C10: =Resultate!C18 -> 0 | D10: =Resultate!I18 -> 0 | E10: =Resultate!O18 -> 0 | F10: =Resultate!$I$6 -> MS Muster | G10: =Resultate!Q18 -> 0 | H10: =Resultate!R18 -> 0 | I10: =Resultate!T18 -> 0 | J10: =Resultate!V18 -> 0 | K10: =Resultate!X18 -> 0 | L10: =_xlfn.RANK.EQ(K10,$K$4:$K$7,0) -> 3
A11: 8 | B11: =Resultate!B19 -> 0 | C11: =Resultate!C19 -> 0 | D11: =Resultate!I19 -> 0 | E11: =Resultate!O19 -> 0 | F11: =Resultate!$I$6 -> MS Muster | G11: =Resultate!Q19 -> 0 | H11: =Resultate!R19 -> 0 | I11: =Resultate!T19 -> 0 | J11: =Resultate!V19 -> 0 | K11: =Resultate!X19 -> 0 | L11: =_xlfn.RANK.EQ(K11,$K$4:$K$7,0) -> 3
A12: 9 | B12: =Resultate!B20 -> 0 | C12: =Resultate!C20 -> 0 | D12: =Resultate!I20 -> 0 | E12: =Resultate!O20 -> 0 | F12: =Resultate!$I$6 -> MS Muster | G12: =Resultate!Q20 -> 0 | H12: =Resultate!R20 -> 0 | I12: =Resultate!T20 -> 0 | J12: =Resultate!V20 -> 0 | K12: =Resultate!X20 -> 0 | L12: =_xlfn.RANK.EQ(K12,$K$4:$K$7,0) -> 3
A13: 10 | B13: =Resultate!B21 -> 0 | C13: =Resultate!C21 -> 0 | D13: =Resultate!I21 -> 0 | E13: =Resultate!O21 -> 0 | F13: =Resultate!$I$6 -> MS Muster | G13: =Resultate!Q21 -> 0 | H13: =Resultate!R21 -> 0 | I13: =Resultate!T21 -> 0 | J13: =Resultate!V21 -> 0 | K13: =Resultate!X21 -> 0 | L13: =_xlfn.RANK.EQ(K13,$K$4:$K$7,0) -> 3
A14: 11 | B14: =Resultate!B22 -> 0 | C14: =Resultate!C22 -> 0 | D14: =Resultate!I22 -> 0 | E14: =Resultate!O22 -> 0 | F14: =Resultate!$I$6 -> MS Muster | G14: =Resultate!Q22 -> 0 | H14: =Resultate!R22 -> 0 | I14: =Resultate!T22 -> 0 | J14: =Resultate!V22 -> 0 | K14: =Resultate!X22 -> 0 | L14: =_xlfn.RANK.EQ(K14,$K$4:$K$7,0) -> 3
A15: 12 | B15: =Resultate!B23 -> 0 | C15: =Resultate!C23 -> 0 | D15: =Resultate!I23 -> 0 | E15: =Resultate!O23 -> 0 | F15: =Resultate!$I$6 -> MS Muster | G15: =Resultate!Q23 -> 0 | H15: =Resultate!R23 -> 0 | I15: =Resultate!T23 -> 0 | J15: =Resultate!V23 -> 0 | K15: =Resultate!X23 -> 0 | L15: =_xlfn.RANK.EQ(K15,$K$4:$K$7,0) -> 3
A16: 13 | F16: =Resultate!$I$6 -> MS Muster | L16: =_xlfn.RANK.EQ(K16,$K$4:$K$7,0) -> 3
A17: 14 | F17: =Resultate!$I$6 -> MS Muster | L17: =_xlfn.RANK.EQ(K17,$K$4:$K$7,0) -> 3
A18: 15 | F18: =Resultate!$I$6 -> MS Muster | L18: =_xlfn.RANK.EQ(K18,$K$4:$K$7,0) -> 3
A19: 16 | F19: =Resultate!$I$6 -> MS Muster | L19: =_xlfn.RANK.EQ(K19,$K$4:$K$7,0) -> 3
A20: 17 | F20: =Resultate!$I$6 -> MS Muster | L20: =_xlfn.RANK.EQ(K20,$K$4:$K$7,0) -> 3
A21: 18 | F21: =Resultate!$I$6 -> MS Muster | L21: =_xlfn.RANK.EQ(K21,$K$4:$K$7,0) -> 3
A22: 19 | F22: =Resultate!$I$6 -> MS Muster | L22: =_xlfn.RANK.EQ(K22,$K$4:$K$7,0) -> 3
A23: 20 | F23: =Resultate!$I$6 -> MS Muster | L23: =_xlfn.RANK.EQ(K23,$K$4:$K$7,0) -> 3
A24: 21 | F24: =Resultate!$I$6 -> MS Muster | L24: =_xlfn.RANK.EQ(K24,$K$4:$K$7,0) -> 3
A25: 22 | F25: =Resultate!$I$6 -> MS Muster | L25: =_xlfn.RANK.EQ(K25,$K$4:$K$7,0) -> 3
A26: 23 | F26: =Resultate!$I$6 -> MS Muster | L26: =_xlfn.RANK.EQ(K26,$K$4:$K$7,0) -> 3
A27: 24 | F27: =Resultate!$I$6 -> MS Muster | L27: =_xlfn.RANK.EQ(K27,$K$4:$K$7,0) -> 3
... A41: 38 | F41: =Resultate!$I$6 -> MS Muster | L41: =_xlfn.RANK.EQ(K41,$K$4:$K$7,0) -> 3

Sheet Rang

Sheet Droptown
A1: OP | B1: 1940
A2: RF | B2: 1941
A3: CF | B3: 1942
B4: 1943
B5: 1944
B6: 1945
B7: 1946
B8: 1947
A9: 25m | B9: 1948
A10: 50m | B10: 1949
B11: 1950
B12: 1951
B13: 1952
B14: 1953
B15: 1954
B16: 1955
B17: 1956
B18: 1957
B19: 1958
B20: 1959
B21: 1960
B22: 1961
... B77: 2016
