Workbook

Sheet Verbands-Sektionen
A1: Mitgliederstatistik der Bezirks- und Teilverbände (per 31.12.2017) | Q1: Delegierte für DV 2017
A3: Vereins-Nr. | C3: Bezirksschützenverband Affoltern | D3: Vereinsetat | H3: Lizenzen | K3: Kategorie 2017
C4: Verein | D4: 2014 | E4: 2015 | F4: 2016 | G4: 2017 | H4: Aktiv-A | I4: Aktiv-B | J4: Total | K4: G300 | L4: G50 | M4: G10 | N4: P50 | O4: P25 | P4: P10
A5: 1.01.0.01.005 | C5: Aeugst a.A. Schützengesellschaft | D5: 33 | E5: 33 | F5: 30 | G5: 36 | H5: 19 | I5: 10 | J5: 29 | K5: 4 | Q5: 2
A6: 1.01.0.01.006 | C6: Affoltern a.A. Schützenverein | D6: 87 | E6: 82 | F6: 60 | G6: 58 | H6: 25 | I6: 0 | J6: 25 | K6: 3 | Q6: 2
A7: 1.01.0.01.007 | C7: Affoltern a.A. Pistolenschützen-Gesellschaft | D7: 85 | E7: 90 | F7: 95 | G7: 91 | H7: 38 | I7: 13 | J7: 51 | N7: 1 | O7: 2 | P7: 2 | Q7: 3
A8: 1.01.0.01.015 | C8: Bonstetten Feldschützenverein | D8: 33 | E8: 29 | F8: 28 | G8: 28 | H8: 18 | I8: 0 | J8: 18 | K8: 4 | Q8: 2
A9: 1.01.0.01.018 | C9: Dachlissen-Mettmenstetten Schützenverein | D9: 78 | E9: 83 | F9: 91 | G9: 98 | H9: 55 | I9: 5 | J9: 60 | K9: 3 | Q9: 3
A10: 1.01.0.01.038 | C10: Hausen am Albis, Schützengesellschaft | D10: 29 | E10: 28 | F10: 47 | G10: 55 | H10: 28 | I10: 0 | J10: 28 | K10: 4 | Q10: 2
A11: 1.01.0.01.039 | C11: Hausen am Albis, Pistolen- & Rev.-Schiessverein | D11: 40 | E11: 40 | F11: 28 | G11: 31 | H11: 22 | I11: 0 | J11: 22 | N11: 2 | O11: 1 | P11: 2 | Q11: 2
A12: 1.01.0.01.041 | C12: Hedingen Schützenverein | D12: 27 | E12: 28 | F12: 25 | G12: 25 | H12: 12 | I12: 5 | J12: 17 | K12: 4 | Q12: 2
A13: 1.01.0.01.055 | C13: Kappel a.A. Feldschützenverein | D13: 17 | E13: 13 | F13: 26 | G13: 26 | H13: 10 | I13: 3 | J13: 13 | K13: 4 | Q13: 2
A14: 1.01.0.01.058 | C14: Knonau Feldschützenverein | D14: 48 | E14: 39 | F14: 36 | G14: 35 | H14: 16 | I14: 1 | J14: 17 | K14: 3 | Q14: 2
A15: 1.01.0.01.075 | C15: Mettmenstetten Pistolenschiessverein | D15: 70 | E15: 80 | F15: 84 | G15: 78 | H15: 24 | I15: 2 | J15: 26 | N15: 2 | O15: 2 | P15: 2 | Q15: 2
A16: 1.01.0.01.084 | C16: Obfelden-Maschwanden Schützenverein | D16: 41 | E16: 46 | F16: 54 | G16: 39 | H16: 20 | I16: 1 | J16: 21 | K16: 3 | Q16: 2
A17: 1.01.0.01.087 | C17: Ottenbach Feldschützenverein | D17: 45 | E17: 46 | F17: 54 | G17: 42 | H17: 40 | I17: 0 | J17: 40 | K17: 3 | Q17: 3
A18: 1.01.0.01.092 | C18: Rifferswil Feldschützenverein | D18: 36 | E18: 35 | F18: 36 | G18: 33 | H18: 19 | I18: 0 | J18: 19 | K18: 4 | Q18: 2
A19: 1.01.0.01.138 | C19: Wettswil am Albis Feldschützenverein | D19: 109 | E19: 116 | F19: 121 | G19: 100 | H19: 49 | I19: 3 | J19: 52 | K19: 2 | L19: 3 | M19: 2 | N19: 3 | O19: 2 | P19: 2 | Q19: 3
A20: 1.01.0.01.228 | C20: Zwillikon Feldschützengesellschaft | D20: 77 | E20: 90 | F20: 83 | G20: 82 | H20: 25 | I20: 1 | J20: 26 | K20: 2 | Q20: 2
A21: 1.01.0.01.231 | C21: Bonstetten Pistolen- und Revolverschützen | D21: 36 | E21: 33 | F21: 34 | G21: 33 | H21: 11 | I21: 1 | J21: 12 | N21: 3 | O21: 2 | P21: 2 | Q21: 2
A22: Total | B22: 17 | C22: Vereine per 01.01.2018 | D22: 911 | E22: 911 | F22: 932 | G22: =SUM(G5:G21) -> 890 | H22: =SUM(H5:H21) -> 431 | I22: =SUM(I5:I21) -> 45 | J22: =SUM(J5:J21) -> 476
A24: Vereins-Nr. | C24: Bezirksschützenverband Andelfingen | D24: Vereinsetat | H24: Lizenzen | K24: Kategorie 2017
C25: Verein | D25: 2014 | E25: 2015 | F25: 2016 | G25: 2017 | H25: Aktiv-A | I25: Aktiv-B | J25: Total | K25: G300 | L25: G50 | M25: G10 | N25: P50 | O25: P25 | P25: P10
A26: 1.01.0.02.001 | C26: Humlikon-Adlikon Militärschützenverein | D26: 66 | E26: 66 | F26: 66 | G26: 61 | H26: 42 | I26: 1 | J26: 43 | K26: 1 | M26: 3 | Q26: 3
A27: 1.01.0.02.003 | C27: Alten-Marthalen Pistolenschützen | D27: 42 | E27: 41 | F27: 43 | G27: 45 | H27: 21 | I27: 0 | J27: 21 | N27: 3 | O27: 2 | P27: 2 | Q27: 2
A28: 1.01.0.02.005 | C28: Andelfingen Pistolenschützen | D28: 49 | E28: 49 | F28: 44 | G28: 43 | H28: 31 | I28: 0 | J28: 31 | N28: 2 | O28: 2 | P28: 2 | Q28: 3
A29: 1.01.0.02.006 | C29: Andelfingen Schiesssportverein | D29: 33 | E29: 35 | F29: 30 | G29: 34 | H29: 25 | I29: 0 | J29: 25 | K29: 3 | L29: 3 | Q29: 2
A30: 1.01.0.02.013 | C30: Benken Militärschiessverein | D30: 81 | E30: 92 | F30: 85 | G30: 80 | H30: 36 | I30: 2 | J30: 38 | K30: 3 | Q30: 3
A31: 1.01.0.02.014 | C31: Berg-Buch Irchelschützen | D31: 36 | E31: 30 | F31: 40 | G31: 51 | H31: 34 | I31: 3 | J31: 37 | Q31: 3
A32: 1.01.0.02.015 | C32: Berg am Irchel Pistolenschiessverein | D32: 36 | E32: 33 | F32: 23 | G32: 28 | H32: 14 | I32: 1 | J32: 15 | N32: 2 | O32: 2 | P32: 2 | Q32: 2
A33: 1.01.0.02.027 | C33: Dachsen Schützenverein | D33: 47 | E33: 46 | F33: 46 | G33: 37 | H33: 34 | I33: 2 | J33: 36 | K33: 4 | Q33: 3
A34: 1.01.0.02.037 | C34: Dorf Militärschiessverein | D34: 42 | E34: 18 | F34: 22 | G34: 19 | H34: 14 | I34: 3 | J34: 17 | K34: 4 | Q34: 2
A35: 1.01.0.02.050 | C35: Flaach Militärschiessverein | D35: 61 | E35: 67 | F35: 72 | G35: 51 | H35: 36 | I35: 3 | J35: 39 | K35: 3 | Q35: 3
A36: 1.01.0.02.051 | C36: Flurlingen-Ausseramt PC | D36: 47 | E36: 39 | F36: 50 | G36: 43 | H36: 24 | I36: 1 | J36: 25 | N36: 3 | O36: 2 | P36: 2 | Q36: 2
A37: 1.01.0.02.052 | C37: Schützen Flurlingen-Uhwiesen | D37: 52 | E37: 52 | F37: 51 | G37: 58 | H37: 27 | I37: 1 | J37: 28 | K37: 3 | Q37: 2
A38: 1.01.0.02.064 | C38: Henggart Schützenverein | D38: 29 | E38: 30 | F38: 33 | G38: 32 | H38: 17 | I38: 11 | J38: 28 | K38: 4 | Q38: 2
A39: 1.01.0.02.077 | C39: Kleinandelfingen Militärschützenverein | D39: 54 | E39: 54 | F39: 54 | G39: 54 | H39: 20 | I39: 1 | J39: 21 | K39: 3 | Q39: 2
A40: 1.01.0.02.088 | C40: Marthalen Militärschiessverein | D40: 72 | E40: 73 | F40: 89 | G40: 100 | H40: 36 | I40: 40 | J40: 76 | K40: 1 | Q40: 4
A41: 1.01.0.02.103 | C41: Oberstammheim Feldschützengesellschaft | D41: 63 | E41: 65 | F41: 52 | G41: 50 | H41: 28 | I41: 1 | J41: 29 | K41: 4 | Q41: 2
A42: 1.01.0.02.106 | C42: Oerlingen Feldschützengesellschaft | D42: 28 | E42: 28 | F42: 30 | G42: 35 | H42: 25 | I42: 1 | J42: 26 | K42: 3 | Q42: 2
A43: 1.01.0.02.113 | C43: Ossingen Schützenverein | D43: 142 | E43: 130 | F43: 129 | G43: 117 | H43: 47 | I43: 8 | J43: 55 | K43: 2 | Q43: 3
A44: 1.01.0.02.134 | C44: Rudolfingen Militärschiessverein | D44: 26 | E44: 25 | F44: 30 | G44: 27 | H44: 26 | I44: 0 | J44: 26 | K44: 4 | Q44: 2
A45: 1.01.0.02.155 | C45: Thalheim Schützenverein | D45: 35 | E45: 35 | F45: 27 | G45: 30 | H45: 23 | I45: 5 | J45: 28 | K45: 3 | Q45: 2
A46: 1.01.0.02.156 | C46: Cholfirst-Schützen | D46: 55 | E46: 53 | F46: 52 | G46: 76 | H46: 28 | I46: 7 | J46: 35 | Q46: 3
A47: 1.01.0.02.157 | C47: Truttikon Militärschützenverein | D47: 33 | E47: 38 | F47: 41 | G47: 39 | H47: 31 | I47: 7 | J47: 38 | K47: 2 | Q47: 3
A48: 1.01.0.02.163 | C48: Stammheim Feldschützenverein | D48: 63 | E48: 64 | F48: 66 | G48: 65 | H48: 34 | I48: 2 | J48: 36 | K48: 3 | Q48: 3
A49: 1.01.0.02.164 | C49: Volken Militärschützenverein | D49: 20 | E49: 18 | F49: 20 | G49: 37 | H49: 13 | I49: 1 | J49: 14 | K49: 4 | Q49: 2
A50: 1.01.0.02.168 | C50: Waltalingen Schützengesellschaft | D50: 25 | E50: 29 | F50: 31 | G50: 34 | H50: 21 | I50: 2 | J50: 23 | K50: 4 | Q50: 2
A51: 1.01.0.02.216 | C51: Stammheim Pistolenclub Stammertal | D51: 41 | E51: 37 | F51: 31 | G51: 30 | H51: 18 | I51: 5 | J51: 23 | N51: 2 | O51: 1 | P51: 2 | Q51: 2
A52: Total | B52: 26 | C52: Vereine per 01.01.2018 | D52: 1452 | E52: 1326 | F52: 1283 | G52: =SUM(G26:G51) -> 1276 | H52: =SUM(H26:H51) -> 705 | I52: =SUM(I26:I51) -> 108 | J52: =SUM(J26:J51) -> 813
A54: Vereins-Nr. | C54: Bezirksschützenverband Bülach | D54: Vereinsetat | H54: Lizenzen | K54: Kategorie 2017
C55: Verein | D55: 2014 | E55: 2015 | F55: 2016 | G55: 2017 | H55: Aktiv-A | I55: Aktiv-B | J55: Total | K55: G300 | L55: G50 | M55: G10 | N55: P50 | O55: P25 | P55: P10
A56: 1.01.0.03.007 | C56: Bachenbülach Schiessverein | D56: 24 | E56: 26 | F56: 24 | G56: 24 | H56: 16 | I56: 3 | J56: 19 | K56: 3 | Q56: 2
A57: 1.01.0.03.010 | C57: Bassersdorf Schützengesellschaft | D57: 69 | E57: 60 | F57: 55 | G57: 53 | H57: 29 | I57: 8 | J57: 37 | K57: 3 | Q57: 3
A58: 1.01.0.03.024 | C58: Bülach Militärschützen | D58: 112 | E58: 117 | F58: 103 | G58: 109 | H58: 72 | I58: 10 | J58: 82 | K58: 2 | Q58: 4
A59: 1.01.0.03.025 | C59: Bülach Pistolenschützen | D59: 58 | E59: 62 | F59: 68 | G59: 89 | H59: 63 | I59: 1 | J59: 64 | N59: 1 | O59: 2 | P59: 1 | Q59: 4
A60: 1.01.0.03.035 | C60: Kloten-Dietlikon Bettensee Schützen | D60: 25 | E60: 109 | F60: 113 | G60: 101 | H60: 55 | I60: 8 | J60: 63 | K60: 1 | M60: 3 | Q60: 4
A61: 1.01.0.03.046 | C61: Embrach-Lufingen Schützenverein | D61: 91 | E61: 96 | F61: 82 | G61: 71 | H61: 45 | I61: 5 | J61: 50 | K61: 1 | Q61: 3
A62: 1.01.0.03.055 | C62: Glattfelden Pistolenclub | D62: 48 | E62: 53 | F62: 50 | G62: 48 | H62: 14 | I62: 1 | J62: 15 | N62: 2 | O62: 2 | P62: 2 | Q62: 2
A63: 1.01.0.03.056 | C63: Glattfelden Schiessverein | D63: 110 | E63: 110 | F63: 117 | G63: 122 | H63: 19 | I63: 3 | J63: 22 | K63: 3 | Q63: 2
A64: 1.01.0.03.067 | C64: Hochfelden Schiessverein | D64: 36 | E64: 42 | F64: 38 | G64: 39 | H64: 38 | I64: 1 | J64: 39 | K64: 2 | Q64: 3
A65: 1.01.0.03.068 | C65: Höri Schiessverein | D65: 45 | E65: 45 | F65: 38 | G65: 40 | H65: 27 | I65: 8 | J65: 35 | K65: 1 | Q65: 3
A66: 1.01.0.03.079 | C66: Kloten Pistolenschützen | D66: 89 | E66: 120 | F66: 132 | G66: 139 | H66: 70 | I66: 8 | J66: 78 | N66: 1 | O66: 1 | P66: 1 | Q66: 4
A67: 1.01.0.03.099 | B67: a) | C67: Nürensdorf Schützenverein | D67: 23 | E67: 22 | F67: 23 | G67: 23 | H67: 0 | I67: 0 | J67: 0 | Q67: 2
A68: 1.01.0.03.100 | C68: Oberembrach Militärschiessverein | D68: 70 | E68: 73 | F68: 76 | G68: 75 | H68: 28 | I68: 0 | J68: 28 | K68: 3 | Q68: 2
A69: 1.01.0.03.109 | C69: Opfikon-Glattbrugg Pistolenschiessverein | D69: 22 | E69: 22 | F69: 25 | G69: 26 | H69: 18 | I69: 1 | J69: 19 | N69: 3 | O69: 2 | P69: 2 | Q69: 2
A70: 1.01.0.03.110 | C70: Opfikon-Glattbrugg, Pistolenschützenbund | D70: 38 | E70: 40 | F70: 42 | G70: 54 | H70: 23 | I70: 0 | J70: 23 | N70: 2 | O70: 2 | P70: 2 | Q70: 2
A71: 1.01.0.03.111 | C71: Opfikon Schiessverein | D71: 57 | E71: 60 | F71: 45 | G71: 23 | H71: 12 | I71: 1 | J71: 13 | K71: 4 | Q71: 2
A72: 1.01.0.03.122 | C72: Rafz Pistolenclub Rafzerfeld | D72: 58 | E72: 59 | F72: 49 | G72: 48 | H72: 19 | I72: 1 | J72: 20 | N72: 2 | O72: 2 | P72: 2 | Q72: 2
A73: 1.01.0.03.123 | C73: Rafz Schützengesellschaft | D73: 85 | E73: 81 | F73: 85 | G73: 107 | H73: 51 | I73: 42 | J73: 93 | K73: 1 | Q73: 4
A74: 1.01.0.03.131 | C74: Rorbas-Embrach Pistolenschützen | D74: 27 | E74: 23 | F74: 18 | G74: 17 | H74: 14 | I74: 0 | J74: 14 | N74: 2 | O74: 2 | P74: 2 | Q74: 2
A75: 1.01.0.03.132 | C75: Rorbas Schützenverein | D75: 43 | E75: 45 | F75: 38 | G75: 52 | H75: 37 | I75: 2 | J75: 39 | K75: 4 | Q75: 3
A76: 1.01.0.03.154 | C76: Teufen ZH Schiessverein | D76: 71 | E76: 78 | F76: 74 | G76: 75 | H76: 38 | I76: 5 | J76: 43 | K76: 3 | Q76: 3
A77: 1.01.0.03.165 | C77: Wallisellen Pistolenklub | D77: 35 | E77: 37 | F77: 42 | G77: 41 | H77: 41 | I77: 0 | J77: 41 | N77: 1 | O77: 1 | P77: 2 | Q77: 3
A78: 1.01.0.03.166 | C78: Wallisellen Schiessverein | D78: 120 | E78: 133 | F78: 141 | G78: 141 | H78: 36 | I78: 1 | J78: 37 | K78: 1 | Q78: 3
A79: 1.01.0.03.169 | C79: Wasterkingen Militärschützenverein | D79: 33 | E79: 32 | F79: 29 | G79: 30 | H79: 23 | I79: 2 | J79: 25 | K79: 4 | Q79: 2
A80: 1.01.0.03.174 | C80: Wil ZH Schiessverein | D80: 68 | E80: 63 | F80: 65 | G80: 65 | H80: 32 | I80: 1 | J80: 33 | K80: 4 | Q80: 3
A81: 1.01.0.03.179 | C81: Winkel-Rüti Schiessverein | D81: 69 | E81: 69 | F81: 76 | G81: 76 | H81: 30 | I81: 0 | J81: 30 | K81: 4 | Q81: 2
A82: Total | B82: 25 | C82: Vereine per 01.01.2018 | D82: 1701 | E82: 1718 | F82: 1648 | G82: =SUM(G56:G81) -> 1688 | H82: =SUM(H56:H81) -> 850 | I82: =SUM(I56:I81) -> 112 | J82: =SUM(J56:J81) -> 962
A83: a) Auflösung per 31.12.2017
A85: Vereins-Nr. | C85: Bezirksschützenverband Dielsdorf | D85: Vereinsetat | H85: Lizenzen | K85: Kategorie 2017
C86: Verein | D86: 2014 | E86: 2015 | F86: 2016 | G86: 2017 | H86: Aktiv-A | I86: Aktiv-B | J86: Total | K86: G300 | L86: G50 | M86: G10 | N86: P50 | O86: P25 | P86: P10
A87: 1.01.0.04.008 | C87: Bachs Schiessverein | D87: 34 | E87: 32 | F87: 28 | G87: 28 | H87: 19 | I87: 3 | J87: 22 | K87: 2 | Q87: 2
A88: 1.01.0.04.018 | C88: Boppelsen Schiessverein | D88: 36 | E88: 36 | F88: 36 | G88: 36 | H88: 16 | I88: 1 | J88: 17 | K88: 4 | Q88: 2
A89: 1.01.0.04.021 | C89: Buchs ZH Militärschiessverein | D89: 35 | E89: 35 | F89: 37 | G89: 38 | H89: 22 | I89: 2 | J89: 24 | K89: 2 | Q89: 2
A90: 1.01.0.04.029 | C90: Dällikon Schiessverein | D90: 17 | E90: 19 | F90: 18 | G90: 18 | H90: 16 | I90: 0 | J90: 16 | K90: 3 | Q90: 2
A91: 1.01.0.04.030 | C91: Dänikon-Hüttikon Schiessverein | D91: 72 | E91: 84 | F91: 49 | G91: 44 | H91: 28 | I91: 0 | J91: 28 | K91: 2 | Q91: 2
A92: 1.01.0.04.033 | C92: Dielsdorf Pistolenschiessverein v.d. Lägern | D92: 50 | E92: 44 | F92: 40 | G92: 40 | H92: 23 | I92: 1 | J92: 24 | N92: 3 | O92: 2 | P92: 2 | Q92: 2
A93: 1.01.0.04.034 | C93: Dielsdorf Schützengesellschaft | D93: 35 | E93: 29 | F93: 31 | G93: 29 | H93: 21 | I93: 8 | J93: 29 | K93: 3 | Q93: 2
A94: 1.01.0.04.091 | C94: Neerach Schiessverein | D94: 20 | E94: 20 | F94: 19 | G94: 22 | H94: 14 | I94: 5 | J94: 19 | K94: 4 | Q94: 2
A95: 1.01.0.04.094 | C95: Niederglatt Feldschützengesellschaft | D95: 42 | E95: 42 | F95: 38 | G95: 29 | H95: 10 | I95: 0 | J95: 10 | K95: 4 | Q95: 2
A96: 1.01.0.04.095 | C96: Niederglatt Pistolenschützenverein | D96: 38 | E96: 40 | F96: 41 | G96: 41 | H96: 12 | I96: 1 | J96: 13 | N96: 2 | O96: 2 | P96: 2 | Q96: 2
A97: 1.01.0.04.096 | C97: Niederhasli, Sportschützenverein Salen | D97: 63 | E97: 65 | F97: 62 | G97: 68 | H97: 32 | I97: 3 | J97: 35 | K97: 2 | Q97: 3
A98: 1.01.0.04.097 | C98: Niederweningen Freischützen | D98: 33 | E98: 33 | F98: 35 | G98: 39 | H98: 25 | I98: 1 | J98: 26 | K98: 3 | Q98: 2
A99: 1.01.0.04.098 | C99: Niederweningen Pistolenschiessverein | D99: 43 | E99: 42 | F99: 31 | G99: 35 | H99: 26 | I99: 1 | J99: 27 | N99: 1 | O99: 1 | P99: 1 | Q99: 2
A100: 1.01.0.04.101 | C100: Oberglatt Schützengesellschaft | D100: 29 | E100: 26 | F100: 24 | G100: 24 | H100: 17 | I100: 1 | J100: 18 | K100: 3 | Q100: 2
A101: 1.01.0.04.104 | C101: Oberweningen Schiessverein | D101: 21 | E101: 22 | F101: 21 | G101: 22 | H101: 20 | I101: 2 | J101: 22 | K101: 4 | Q101: 2
A102: 1.01.0.04.114 | C102: Otelfingen Standschützen | D102: 28 | E102: 28 | F102: 28 | G102: 27 | H102: 17 | I102: 3 | J102: 20 | K102: 3 | Q102: 2
A103: 1.01.0.04.124 | C103: Regensberg Schiessverein | D103: 64 | E103: 66 | F103: 66 | G103: 65 | H103: 14 | I103: 12 | J103: 26 | K103: 3 | Q103: 2
A104: 1.01.0.04.125 | C104: Regensdorf-Watt Schützengesellschaft | D104: 69 | E104: 75 | F104: 64 | G104: 61 | H104: 24 | I104: 4 | J104: 28 | K104: 1 | Q104: 2
...

Sheet Zusammenstellung
A1: Bezirke / Teilverbände | B1: Vereine am 01.01.2016 | C1: Mitglieder 2015 | D1: Lizenzierte 2015 | E1: Vereine am 01.01.2017 | F1: Mitglieder 2016 | G1: Lizenzierte 2016 | H1: Vereine am 01.01.2018 | I1: Mitglieder 2017 | J1: Lizenzierte 2017
A2: Bezirke
A3: Affoltern | B3: 17 | C3: 911 | D3: 478 | E3: 17 | F3: 932 | G3: 463 | H3: =SUM('Verbands-Sektionen'!B22) -> 17 | I3: =SUM('Verbands-Sektionen'!G22) -> 890 | J3: =SUM('Verbands-Sektionen'!J22) -> 476
A4: Andelfingen | B4: 27 | C4: 1326 | D4: 821 | E4: 26 | F4: 1283 | G4: 819 | H4: =SUM('Verbands-Sektionen'!B52) -> 26 | I4: =SUM('Verbands-Sektionen'!G52) -> 1276 | J4: =SUM('Verbands-Sektionen'!J52) -> 813
A5: Bülach | B5: 26 | C5: 1718 | D5: 989 | E5: 26 | F5: 1648 | G5: 934 | H5: =SUM('Verbands-Sektionen'!B82) -> 25 | I5: =SUM('Verbands-Sektionen'!G82) -> 1688 | J5: =SUM('Verbands-Sektionen'!J82) -> 962
A6: Dielsdorf | B6: 28 | C6: 1046 | D6: 698 | E6: 28 | F6: 1038 | G6: 679 | H6: =SUM('Verbands-Sektionen'!B115) -> 28 | I6: =SUM('Verbands-Sektionen'!G115) -> 1072 | J6: =SUM('Verbands-Sektionen'!J115) -> 700
A7: Hinwil | B7: 15 | C7: 839 | D7: 508 | E7: 15 | F7: 860 | G7: 510 | H7: =SUM('Verbands-Sektionen'!B134) -> 15 | I7: =SUM('Verbands-Sektionen'!G134) -> 900 | J7: =SUM('Verbands-Sektionen'!J134) -> 523
A8: Horgen | B8: 12 | C8: 763 | D8: 480 | E8: 11 | F8: 742 | G8: 456 | H8: =SUM('Verbands-Sektionen'!B149) -> 11 | I8: =SUM('Verbands-Sektionen'!G149) -> 737 | J8: =SUM('Verbands-Sektionen'!J149) -> 451
A9: Meilen | B9: 13 | C9: 879 | D9: 453 | E9: 13 | F9: 861 | G9: 475 | H9: =SUM('Verbands-Sektionen'!B166) -> 13 | I9: =SUM('Verbands-Sektionen'!G166) -> 864 | J9: =SUM('Verbands-Sektionen'!J166) -> 484
A10: Pfäffikon | B10: 18 | C10: 1191 | D10: 622 | E10: 18 | F10: 1171 | G10: 600 | H10: =SUM('Verbands-Sektionen'!B188) -> 18 | I10: =SUM('Verbands-Sektionen'!G188) -> 1139 | J10: =SUM('Verbands-Sektionen'!J188) -> 600
A11: Uster | B11: 16 | C11: 1222 | D11: 581 | E11: 16 | F11: 1127 | G11: 556 | H11: =SUM('Verbands-Sektionen'!B208) -> 16 | I11: =SUM('Verbands-Sektionen'!G208) -> 1219 | J11: =SUM('Verbands-Sektionen'!J208) -> 578
A12: Winterthur | B12: 35 | C12: 1588 | D12: 954 | E12: 35 | F12: 1686 | G12: 950 | H12: =SUM('Verbands-Sektionen'!B247) -> 34 | I12: =SUM('Verbands-Sektionen'!G247) -> 1602 | J12: =SUM('Verbands-Sektionen'!J247) -> 910
A13: Zürich | B13: 31 | C13: 2412 | D13: 1215 | E13: 31 | F13: 2470 | G13: 1206 | H13: =SUM('Verbands-Sektionen'!B283) -> 31 | I13: =SUM('Verbands-Sektionen'!G283) -> 2588 | J13: =SUM('Verbands-Sektionen'!J283) -> 1231
A15: Teilverbände
A16: Winterthur u. Umgebung | B16: 7 | C16: 176 | D16: 114 | E16: 6 | F16: 195 | G16: 101 | H16: =SUM('Verbands-Sektionen'!B293) -> 6 | I16: =SUM('Verbands-Sektionen'!G293) -> 161 | J16: =SUM('Verbands-Sektionen'!J293) -> 95
A17: Zürichsee | B17: 5 | C17: 82 | D17: 64 | E17: 5 | F17: 91 | G17: 71 | H17: =SUM('Verbands-Sektionen'!B302) -> 5 | I17: =SUM('Verbands-Sektionen'!G302) -> 117 | J17: =SUM('Verbands-Sektionen'!J302) -> 73
A18: Zürich u. Umgebung | B18: 15 | C18: 524 | D18: 236 | E18: 14 | F18: 460 | G18: 235 | H18: =SUM('Verbands-Sektionen'!B320) -> 13 | I18: =SUM('Verbands-Sektionen'!G320) -> 455 | J18: =SUM('Verbands-Sektionen'!J320) -> 228
A19: Zürcher Oberland | B19: 6 | C19: 264 | D19: 106 | E19: 6 | F19: 281 | G19: 108 | H19: =SUM('Verbands-Sektionen'!B331) -> 6 | I19: =SUM('Verbands-Sektionen'!G331) -> 265 | J19: =SUM('Verbands-Sektionen'!J331) -> 99
A21: Total | B21: =SUM(B3:B19) -> 271 | C21: =SUM(C3:C19) -> 14941 | D21: =SUM(D3:D19) -> 8319 | E21: =SUM(E3:E19) -> 267 | F21: =SUM(F3:F19) -> 14845 | G21: =SUM(G3:G19) -> 8163 | H21: =SUM(H3:H19) -> 264 | I21: =SUM(I3:I19) -> 14973 | J21: =SUM(J3:J19) -> 8223
C41: 14
