Workbook

Sheet Verbands-Sektionen
A1: Mitgliederstatistik der Bezirks- und Teilverbände (per 31.12.2017) | Q1: Delegierte für DV 2017
A3: Vereins-Nr. | C3: Bezirksschützenverband Affoltern | D3: Vereinsetat | H3: Lizenzen | K3: Kategorie 2017
C4: Verein | D4: 2014 | E4: 2015 | F4: 2016 | G4: 2017 | H4: Aktiv-A | I4: Aktiv-B | J4: Total | K4: G300 | L4: G50 | M4: G10 | N4: P50 | O4: P25 | P4: P10
A5: 1.01.0.01.005 | C5: Aeugst a.A. Schützengesellschaft | D5: 33 | E5: 33 | F5: 30 | G5: 36 | H5: 19 | I5: 10 | J5: 29 | K5: 4 | Q5: 2
A6: 1.01.0.01.006 | C6: Affoltern a.A. Schützenverein | D6: 87 | E6: 82 | F6: 60 | G6: 58 | H6: 25 | I6: 0 | J6: 25 | K6: 3 | Q6: 2
A7: 1.01.0.01.007 | C7: Affoltern a.A. Pistolenschützen-Gesellschaft | D7: 85 | E7: 90 | F7: 95 | G7: 91 | H7: 38 | I7: 13 | J7: 51 | N7: 1 | O7: 2 | P7: 2 | Q7: 3
A8: 1.01.0.01.015 | C8: Bonstetten Feldschützenverein | D8: 33 | E8: 29 | F8: 28 | G8: 28 | H8: 18 | I8: 0 | J8: 18 | K8: 4 | Q8: 2
A9: 1.01.0.01.018 | C9: Dachlissen-Mettmenstetten Schützenverein | D9: 78 | E9: 83 | F9: 91 | G9: 98 | H9: 55 | I9: 5 | J9: 60 | K9: 3 | Q9: 3
A10: 1.01.0.01.038 | C10: Hausen am Albis, Schützengesellschaft | D10: 29 | E10: 28 | F10: 47 | G10: 55 | H10: 28 | I10: 0 | J10: 28 | K10: 4 | Q10: 2
A11: 1.01.0.01.039 | C11: Hausen am Albis, Pistolen- & Rev.-Schiessverein | D11: 40 | E11: 40 | F11: 28 | G11: 31 | H11: 22 | I11: 0 | J11: 22 | N11: 2 | O11: 1 | P11: 2 | Q11: 2
A12: 1.01.0.01.041 | C12: Hedingen Schützenverein | D12: 27 | E12: 28 | F12: 25 | G12: 25 | H12: 12 | I12: 5 | J12: 17 | K12: 4 | Q12: 2
A13: 1.01.0.01.055 | C13: Kappel a.A. Feldschützenverein | D13: 17 | E13: 13 | F13: 26 | G13: 26 | H13: 10 | I13: 3 | J13: 13 | K13: 4 | Q13: 2
A14: 1.01.0.01.058 | C14: Knonau Feldschützenverein | D14: 48 | E14: 39 | F14: 36 | G14: 35 | H14: 16 | I14: 1 | J14: 17 | K14: 3 | Q14: 2
A15: 1.01.0.01.075 | C15: Mettmenstetten Pistolenschiessverein | D15: 70 | E15: 80 | F15: 84 | G15: 78 | H15: 24 | I15: 2 | J15: 26 | N15: 2 | O15: 2 | P15: 2 | Q15: 2
A16: 1.01.0.01.084 | C16: Obfelden-Maschwanden Schützenverein | D16: 41 | E16: 46 | F16: 54 | G16: 39 | H16: 20 | I16: 1 | J16: 21 | K16: 3 | Q16: 2
A17: 1.01.0.01.087 | C17: Ottenbach Feldschützenverein | D17: 45 | E17: 46 | F17: 54 | G17: 42 | H17: 40 | I17: 0 | J17: 40 | K17: 3 | Q17: 3
A18: 1.01.0.01.092 | C18: Rifferswil Feldschützenverein | D18: 36 | E18: 35 | F18: 36 | G18: 33 | H18: 19 | I18: 0 | J18: 19 | K18: 4 | Q18: 2
A19: 1.01.0.01.138 | C19: Wettswil am Albis Feldschützenverein | D19: 109 | E19: 116 | F19: 121 | G19: 100 | H19: 49 | I19: 3 | J19: 52 | K19: 2 | L19: 3 | M19: 2 | N19: 3 | O19: 2 | P19: 2 | Q19: 3
A20: 1.01.0.01.228 | C20: Zwillikon Feldschützengesellschaft | D20: 77 | E20: 90 | F20: 83 | G20: 82 | H20: 25 | I20: 1 | J20: 26 | K20: 2 | Q20: 2
A21: 1.01.0.01.231 | C21: Bonstetten Pistolen- und Revolverschützen | D21: 36 | E21: 33 | F21: 34 | G21: 33 | H21: 11 | I21: 1 | J21: 12 | N21: 3 | O21: 2 | P21: 2 | Q21: 2
A22: Total | B22: 17 | C22: Vereine per 01.01.2018 | D22: 911 | E22: 911 | F22: 932 | G22: =SUM(G5:G21) -> 890 | H22: =SUM(H5:H21) -> 431 | I22: =SUM(I5:I21) -> 45 | J22: =SUM(J5:J21) -> 476
A24: Vereins-Nr. | C24: Bezirksschützenverband Andelfingen | D24: Vereinsetat | H24: Lizenzen | K24: Kategorie 2017
C25: Verein | D25: 2014 | E25: 2015 | F25: 2016 | G25: 2017 | H25: Aktiv-A | I25: Aktiv-B | J25: Total | K25: G300 | L25: G50 | M25: G10 | N25: P50 | O25: P25 | P25: P10
A26: 1.01.0.02.001 | C26: Humlikon-Adlikon Militärschützenverein | D26: 66 | E26: 66 | F26: 66 | G26: 61 | H26: 42 | I26: 1 | J26: 43 | K26: 1 | M26: 3 | Q26: 3
A27: 1.01.0.02.003 | C27: Alten-Marthalen Pistolenschützen | D27: 42 | E27: 41 | F27: 43 | G27: 45 | H27: 21 | I27: 0 | J27: 21 | N27: 3 | O27: 2 | P27: 2 | Q27: 2
A28: 1.01.0.02.005 | C28: Andelfingen Pistolenschützen | D28: 49 | E28: 49 | F28: 44 | G28: 43 | H28: 31 | I28: 0 | J28: 31 | N28: 2 | O28: 2 | P28: 2 | Q28: 3
A29: 1.01.0.02.006 | C29: Andelfingen Schiesssportverein | D29: 33 | E29: 35 | F29: 30 | G29: 34 | H29: 25 | I29: 0 | J29: 25 | K29: 3 | L29: 3 | Q29: 2
A30: 1.01.0.02.013 | C30: Benken Militärschiessverein | D30: 81 | E30: 92 | F30: 85 | G30: 80 | H30: 36 | I30: 2 | J30: 38 | K30: 3 | Q30: 3
A31: 1.01.0.02.014 | C31: Berg-Buch Irchelschützen | D31: 36 | E31: 30 | F31: 40 | G31: 51 | H31: 34 | I31: 3 | J31: 37 | Q31: 3
A32: 1.01.0.02.015 | C32: Berg am Irchel Pistolenschiessverein | D32: 36 | E32: 33 | F32: 23 | G32: 28 | H32: 14 | I32: 1 | J32: 15 | N32: 2 | O32: 2 | P32: 2 | Q32: 2
A33: 1.01.0.02.027 | C33: Dachsen Schützenverein | D33: 47 | E33: 46 | F33: 46 | G33: 37 | H33: 34 | I33: 2 | J33: 36 | K33: 4 | Q33: 3
A34: 1.01.0.02.037 | C34: Dorf Militärschiessverein | D34: 42 | E34: 18 | F34: 22 | G34: 19 | H34: 14 | I34: 3 | J34: 17 | K34: 4 | Q34: 2
A35: 1.01.0.02.050 | C35: Flaach Militärschiessverein | D35: 61 | E35: 67 | F35: 72 | G35: 51 | H35: 36 | I35: 3 | J35: 39 | K35: 3 | Q35: 3
A36: 1.01.0.02.051 | C36: Flurlingen-Ausseramt PC | D36: 47 | E36: 39 | F36: 50 | G36: 43 | H36: 24 | I36: 1 | J36: 25 | N36: 3 | O36: 2 | P36: 2 | Q36: 2
A37: 1.01.0.02.052 | C37: Schützen Flurlingen-Uhwiesen | D37: 52 | E37: 52 | F37: 51 | G37: 58 | H37: 27 | I37: 1 | J37: 28 | K37: 3 | Q37: 2
A38: 1.01.0.02.064 | C38: Henggart Schützenverein | D38: 29 | E38: 30 | F38: 33 | G38: 32 | H38: 17 | I38: 11 | J38: 28 | K38: 4 | Q38: 2
A39: 1.01.0.02.077 | C39: Kleinandelfingen Militärschützenverein | D39: 54 | E39: 54 | F39: 54 | G39: 54 | H39: 20 | I39: 1 | J39: 21 | K39: 3 | Q39: 2
A40: 1.01.0.02.088 | C40: Marthalen Militärschiessverein | D40: 72 | E40: 73 | F40: 89 | G40: 100 | H40: 36 | I40: 40 | J40: 76 | K40: 1 | Q40: 4
A41: 1.01.0.02.103 | C41: Oberstammheim Feldschützengesellschaft | D41: 63 | E41: 65 | F41: 52 | G41: 50 | H41: 28 | I41: 1 | J41: 29 | K41: 4 | Q41: 2
A42: 1.01.0.02.106 | C42: Oerlingen Feldschützengesellschaft | D42: 28 | E42: 28 | F42: 30 | G42: 35 | H42: 25 | I42: 1 | J42: 26 | K42: 3 | Q42: 2
...

Sheet Zusammenstellung
A1: Bezirke / Teilverbände | B1: Vereine am 01.01.2016 | C1: Mitglieder 2015 | D1: Lizenzierte 2015 | E1: Vereine am 01.01.2017 | F1: Mitglieder 2016 | G1: Lizenzierte 2016 | H1: Vereine am 01.01.2018 | I1: Mitglieder 2017 | J1: Lizenzierte 2017
A2: Bezirke
A3: Affoltern | B3: 17 | C3: 911 | D3: 478 | E3: 17 | F3: 932 | G3: 463 | H3: =SUM('Verbands-Sektionen'!B22) -> 17 | I3: =SUM('Verbands-Sektionen'!G22) -> 890 | J3: =SUM('Verbands-Sektionen'!J22) -> 476
A4: Andelfingen | B4: 27 | C4: 1326 | D4: 821 | E4: 26 | F4: 1283 | G4: 819 | H4: =SUM('Verbands-Sektionen'!B52) -> 26 | I4: =SUM('Verbands-Sektionen'!G52) -> 1276 | J4: =SUM('Verbands-Sektionen'!J52) -> 813
A5: Bülach | B5: 26 | C5: 1718 | D5: 989 | E5: 26 | F5: 1648 | G5: 934 | H5: =SUM('Verbands-Sektionen'!B82) -> 25 | I5: =SUM('Verbands-Sektionen'!G82) -> 1688 | J5: =SUM('Verbands-Sektionen'!J82) -> 962
A6: Dielsdorf | B6: 28 | C6: 1046 | D6: 698 | E6: 28 | F6: 1038 | G6: 679 | H6: =SUM('Verbands-Sektionen'!B115) -> 28 | I6: =SUM('Verbands-Sektionen'!G115) -> 1072 | J6: =SUM('Verbands-Sektionen'!J115) -> 700
A7: Hinwil | B7: 15 | C7: 839 | D7: 508 | E7: 15 | F7: 860 | G7: 510 | H7: =SUM('Verbands-Sektionen'!B134) -> 15 | I7: =SUM('Verbands-Sektionen'!G134) -> 900 | J7: =SUM('Verbands-Sektionen'!J134) -> 523
A8: Horgen | B8: 12 | C8: 763 | D8: 480 | E8: 11 | F8: 742 | G8: 456 | H8: =SUM('Verbands-Sektionen'!B149) -> 11 | I8: =SUM('Verbands-Sektionen'!G149) -> 737 | J8: =SUM('Verbands-Sektionen'!J149) -> 451
A9: Meilen | B9: 13 | C9: 879 | D9: 453 | E9: 13 | F9: 861 | G9: 475 | H9: =SUM('Verbands-Sektionen'!B166) -> 13 | I9: =SUM('Verbands-Sektionen'!G166) -> 864 | J9: =SUM('Verbands-Sektionen'!J166) -> 484
A10: Pfäffikon | B10: 18 | C10: 1191 | D10: 622 | E10: 18 | F10: 1171 | G10: 600 | H10: =SUM('Verbands-Sektionen'!B188) -> 18 | I10: =SUM('Verbands-Sektionen'!G188) -> 1139 | J10: =SUM('Verbands-Sektionen'!J188) -> 600
A11: Uster | B11: 16 | C11: 1222 | D11: 581 | E11: 16 | F11: 1127 | G11: 556 | H11: =SUM('Verbands-Sektionen'!B208) -> 16 | I11: =SUM('Verbands-Sektionen'!G208) -> 1219 | J11: =SUM('Verbands-Sektionen'!J208) -> 578
A12: Winterthur | B12: 35 | C12: 1588 | D12: 954 | E12: 35 | F12: 1686 | G12: 950 | H12: =SUM('Verbands-Sektionen'!B247) -> 34 | I12: =SUM('Verbands-Sektionen'!G247) -> 1602 | J12: =SUM('Verbands-Sektionen'!J247) -> 910
A13: Zürich | B13: 31 | C13: 2412 | D13: 1215 | E13: 31 | F13: 2470 | G13: 1206 | H13: =SUM('Verbands-Sektionen'!B283) -> 31 | I13: =SUM('Verbands-Sektionen'!G283) -> 2588 | J13: =SUM('Verbands-Sektionen'!J283) -> 1231
A15: Teilverbände
A16: Winterthur u. Umgebung | B16: 7 | C16: 176 | D16: 114 | E16: 6 | F16: 195 | G16: 101 | H16: =SUM('Verbands-Sektionen'!B293) -> 6 | I16: =SUM('Verbands-Sektionen'!G293) -> 161 | J16: =SUM('Verbands-Sektionen'!J293) -> 95
A17: Zürichsee | B17: 5 | C17: 82 | D17: 64 | E17: 5 | F17: 91 | G17: 71 | H17: =SUM('Verbands-Sektionen'!B302) -> 5 | I17: =SUM('Verbands-Sektionen'!G302) -> 117 | J17: =SUM('Verbands-Sektionen'!J302) -> 73
A18: Zürich u. Umgebung | B18: 15 | C18: 524 | D18: 236 | E18: 14 | F18: 460 | G18: 235 | H18: =SUM('Verbands-Sektionen'!B320) -> 13 | I18: =SUM('Verbands-Sektionen'!G320) -> 455 | J18: =SUM('Verbands-Sektionen'!J320) -> 228
A19: Zürcher Oberland | B19: 6 | C19: 264 | D19: 106 | E19: 6 | F19: 281 | G19: 108 | H19: =SUM('Verbands-Sektionen'!B331) -> 6 | I19: =SUM('Verbands-Sektionen'!G331) -> 265 | J19: =SUM('Verbands-Sektionen'!J331) -> 99
A21: Total | B21: =SUM(B3:B19) -> 271 | C21: =SUM(C3:C19) -> 14941 | D21: =SUM(D3:D19) -> 8319 | E21: =SUM(E3:E19) -> 267 | F21: =SUM(F3:F19) -> 14845 | G21: =SUM(G3:G19) -> 8163 | H21: =SUM(H3:H19) -> 264 | I21: =SUM(I3:I19) -> 14973 | J21: =SUM(J3:J19) -> 8223
C41: 14
