Workbook

Sheet Deckblatt
A5: Bezirksmeisterschaft
AR10: Reglement
B11: Bezirksmeister 50m | K11: 1. Bezirksschiessen
K13: 2. Einzelwettschiessen
K15: 3. Kantonalstich HD
K17: 4. Feldschiessen
B20: Bezirksmeister 300m A | K20: 1. Bezirksschiessen
K22: 2. Einzelwettschiessen
K24: 3. Kantonalstich HD
B27: Bezirksmeister 300m D | K27: 1. Bezirksschiessen
K29: 2. Einzelwettschiessen
K31: 3. Kantonalstich HD
K33: 4. Feldschiessen
B36: Bezirksmeister 300m E | K36: 1. Bezirksschiessen
K38: 2. Einzelwettschiessen
K40: 3. Kantonalstich HD
K42: 4. Feldschiessen
B45: Verein
B48: Ort :
B51: Datum:
B54: Unterschrift:
B58: Meldeschluss: 31. Oktober im laufenden Jahr | R58: Senden an: | X58: Burgener Rene
X59: Quentlistrasse 86
X60: 8193 Eglisau
X62: r.burgener61@gmail.com

Sheet Pistole 50m
D1: Pistole 50m | G1: =IF(Deckblatt!$I$45="","",Deckblatt!$I$45)
G2: =IF(Deckblatt!$I$48="","",Deckblatt!$I$48) | H2: =IF(Deckblatt!$I$51="","",Deckblatt!$I$51)
G3: =IF(Deckblatt!$I$54="","",Deckblatt!$I$54)
A5: Name | B5: Vorname | C5: Jg. 4-Stellig | D5: Bezirk- schiessen | E5: Einzelwett- schiessen | F5: Kantonal Stich HD | G5: Feld-schiessen | H5: Total
H6: =IF(SUM(Tabelle1[[#This Row],[Bezirk- schiessen]:[Feld-schiessen]])>0,SUM(Tabelle1[[#This Row],[Bezirk- schiessen]:[Feld-schiessen]]),"")
H7: =IF(SUM(Tabelle1[[#This Row],[Bezirk- schiessen]:[Feld-schiessen]])>0,SUM(Tabelle1[[#This Row],[Bezirk- schiessen]:[Feld-schiessen]]),"")
H8: =IF(SUM(Tabelle1[[#This Row],[Bezirk- schiessen]:[Feld-schiessen]])>0,SUM(Tabelle1[[#This Row],[Bezirk- schiessen]:[Feld-schiessen]]),"")
H9: =IF(SUM(Tabelle1[[#This Row],[Bezirk- schiessen]:[Feld-schiessen]])>0,SUM(Tabelle1[[#This Row],[Bezirk- schiessen]:[Feld-schiessen]]),"")
H10: =IF(SUM(Tabelle1[[#This Row],[Bezirk- schiessen]:[Feld-schiessen]])>0,SUM(Tabelle1[[#This Row],[Bezirk- schiessen]:[Feld-schiessen]]),"")
H11: =IF(SUM(Tabelle1[[#This Row],[Bezirk- schiessen]:[Feld-schiessen]])>0,SUM(Tabelle1[[#This Row],[Bezirk- schiessen]:[Feld-schiessen]]),"")
H12: =IF(SUM(Tabelle1[[#This Row],[Bezirk- schiessen]:[Feld-schiessen]])>0,SUM(Tabelle1[[#This Row],[Bezirk- schiessen]:[Feld-schiessen]]),"")
H13: =IF(SUM(Tabelle1[[#This Row],[Bezirk- schiessen]:[Feld-schiessen]])>0,SUM(Tabelle1[[#This Row],[Bezirk- schiessen]:[Feld-schiessen]]),"")
H14: =IF(SUM(Tabelle1[[#This Row],[Bezirk- schiessen]:[Feld-schiessen]])>0,SUM(Tabelle1[[#This Row],[Bezirk- schiessen]:[Feld-schiessen]]),"")
H15: =IF(SUM(Tabelle1[[#This Row],[Bezirk- schiessen]:[Feld-schiessen]])>0,SUM(Tabelle1[[#This Row],[Bezirk- schiessen]:[Feld-schiessen]]),"")
H16: =IF(SUM(Tabelle1[[#This Row],[Bezirk- schiessen]:[Feld-schiessen]])>0,SUM(Tabelle1[[#This Row],[Bezirk- schiessen]:[Feld-schiessen]]),"")
H17: =IF(SUM(Tabelle1[[#This Row],[Bezirk- schiessen]:[Feld-schiessen]])>0,SUM(Tabelle1[[#This Row],[Bezirk- schiessen]:[Feld-schiessen]]),"")
... H54: =IF(SUM(Tabelle1[[#This Row],[Bezirk- schiessen]:[Feld-schiessen]])>0,SUM(Tabelle1[[#This Row],[Bezirk- schiessen]:[Feld-schiessen]]),"")

Sheet Tabelle2

Sheet 300m Feld A
D1: 300m Feld A | G1: =IF(Deckblatt!$I$45="","",Deckblatt!$I$45)
G2: =IF(Deckblatt!$I$48="","",Deckblatt!$I$48) | H2: =IF(Deckblatt!$I$51="","",Deckblatt!$I$51)
G3: =IF(Deckblatt!$I$54="","",Deckblatt!$I$54)
A5: Name | B5: Vorname | C5: Jg. 4-Stellig | D5: Bezirk- schiessen | E5: Einzelwett- schiessen | F5: Kantonal Stich HD | G5: Feld-schiessen | H5: Total
H6: =IF(SUM(Tabelle13[[#This Row],[Bezirk- schiessen]:[Feld-schiessen]])>0,SUM(Tabelle13[[#This Row],[Bezirk- schiessen]:[Feld-schiessen]]),"")
H7: =IF(SUM(Tabelle13[[#This Row],[Bezirk- schiessen]:[Feld-schiessen]])>0,SUM(Tabelle13[[#This Row],[Bezirk- schiessen]:[Feld-schiessen]]),"")
H8: =IF(SUM(Tabelle13[[#This Row],[Bezirk- schiessen]:[Feld-schiessen]])>0,SUM(Tabelle13[[#This Row],[Bezirk- schiessen]:[Feld-schiessen]]),"")
H9: =IF(SUM(Tabelle13[[#This Row],[Bezirk- schiessen]:[Feld-schiessen]])>0,SUM(Tabelle13[[#This Row],[Bezirk- schiessen]:[Feld-schiessen]]),"")
H10: =IF(SUM(Tabelle13[[#This Row],[Bezirk- schiessen]:[Feld-schiessen]])>0,SUM(Tabelle13[[#This Row],[Bezirk- schiessen]:[Feld-schiessen]]),"")
H11: =IF(SUM(Tabelle13[[#This Row],[Bezirk- schiessen]:[Feld-schiessen]])>0,SUM(Tabelle13[[#This Row],[Bezirk- schiessen]:[Feld-schiessen]]),"")
H12: =IF(SUM(Tabelle13[[#This Row],[Bezirk- schiessen]:[Feld-schiessen]])>0,SUM(Tabelle13[[#This Row],[Bezirk- schiessen]:[Feld-schiessen]]),"")
H13: =IF(SUM(Tabelle13[[#This Row],[Bezirk- schiessen]:[Feld-schiessen]])>0,SUM(Tabelle13[[#This Row],[Bezirk- schiessen]:[Feld-schiessen]]),"")
H14: =IF(SUM(Tabelle13[[#This Row],[Bezirk- schiessen]:[Feld-schiessen]])>0,SUM(Tabelle13[[#This Row],[Bezirk- schiessen]:[Feld-schiessen]]),"")
H15: =IF(SUM(Tabelle13[[#This Row],[Bezirk- schiessen]:[Feld-schiessen]])>0,SUM(Tabelle13[[#This Row],[Bezirk- schiessen]:[Feld-schiessen]]),"")
H16: =IF(SUM(Tabelle13[[#This Row],[Bezirk- schiessen]:[Feld-schiessen]])>0,SUM(Tabelle13[[#This Row],[Bezirk- schiessen]:[Feld-schiessen]]),"")
H17: =IF(SUM(Tabelle13[[#This Row],[Bezirk- schiessen]:[Feld-schiessen]])>0,SUM(Tabelle13[[#This Row],[Bezirk- schiessen]:[Feld-schiessen]]),"")
... H54: =IF(SUM(Tabelle13[[#This Row],[Bezirk- schiessen]:[Feld-schiessen]])>0,SUM(Tabelle13[[#This Row],[Bezirk- schiessen]:[Feld-schiessen]]),"")

Sheet 300m Feld D
D1: 300m Feld D | G1: =IF(Deckblatt!$I$45="","",Deckblatt!$I$45)
G2: =IF(Deckblatt!$I$48="","",Deckblatt!$I$48) | H2: =IF(Deckblatt!$I$51="","",Deckblatt!$I$51)
G3: =IF(Deckblatt!$I$54="","",Deckblatt!$I$54)
A5: Name | B5: Vorname | C5: Jg. 4-Stellig | D5: Bezirk- schiessen | E5: Einzelwett- schiessen | F5: Kantonal Stich HD | G5: Feld-schiessen | H5: Total
H6: =IF(SUM(Tabelle14[[#This Row],[Bezirk- schiessen]:[Feld-schiessen]])>0,SUM(Tabelle14[[#This Row],[Bezirk- schiessen]:[Feld-schiessen]]),"")
H7: =IF(SUM(Tabelle14[[#This Row],[Bezirk- schiessen]:[Feld-schiessen]])>0,SUM(Tabelle14[[#This Row],[Bezirk- schiessen]:[Feld-schiessen]]),"")
H8: =IF(SUM(Tabelle14[[#This Row],[Bezirk- schiessen]:[Feld-schiessen]])>0,SUM(Tabelle14[[#This Row],[Bezirk- schiessen]:[Feld-schiessen]]),"")
H9: =IF(SUM(Tabelle14[[#This Row],[Bezirk- schiessen]:[Feld-schiessen]])>0,SUM(Tabelle14[[#This Row],[Bezirk- schiessen]:[Feld-schiessen]]),"")
H10: =IF(SUM(Tabelle14[[#This Row],[Bezirk- schiessen]:[Feld-schiessen]])>0,SUM(Tabelle14[[#This Row],[Bezirk- schiessen]:[Feld-schiessen]]),"")
H11: =IF(SUM(Tabelle14[[#This Row],[Bezirk- schiessen]:[Feld-schiessen]])>0,SUM(Tabelle14[[#This Row],[Bezirk- schiessen]:[Feld-schiessen]]),"")
H12: =IF(SUM(Tabelle14[[#This Row],[Bezirk- schiessen]:[Feld-schiessen]])>0,SUM(Tabelle14[[#This Row],[Bezirk- schiessen]:[Feld-schiessen]]),"")
H13: =IF(SUM(Tabelle14[[#This Row],[Bezirk- schiessen]:[Feld-schiessen]])>0,SUM(Tabelle14[[#This Row],[Bezirk- schiessen]:[Feld-schiessen]]),"")
H14: =IF(SUM(Tabelle14[[#This Row],[Bezirk- schiessen]:[Feld-schiessen]])>0,SUM(Tabelle14[[#This Row],[Bezirk- schiessen]:[Feld-schiessen]]),"")
H15: =IF(SUM(Tabelle14[[#This Row],[Bezirk- schiessen]:[Feld-schiessen]])>0,SUM(Tabelle14[[#This Row],[Bezirk- schiessen]:[Feld-schiessen]]),"")
H16: =IF(SUM(Tabelle14[[#This Row],[Bezirk- schiessen]:[Feld-schiessen]])>0,SUM(Tabelle14[[#This Row],[Bezirk- schiessen]:[Feld-schiessen]]),"")
H17: =IF(SUM(Tabelle14[[#This Row],[Bezirk- schiessen]:[Feld-schiessen]])>0,SUM(Tabelle14[[#This Row],[Bezirk- schiessen]:[Feld-schiessen]]),"")
... H54: =IF(SUM(Tabelle14[[#This Row],[Bezirk- schiessen]:[Feld-schiessen]])>0,SUM(Tabelle14[[#This Row],[Bezirk- schiessen]:[Feld-schiessen]]),"")

Sheet 300m Feld E
D1: 300m Feld E | G1: =IF(Deckblatt!$I$45="","",Deckblatt!$I$45)
G2: =IF(Deckblatt!$I$48="","",Deckblatt!$I$48) | H2: =IF(Deckblatt!$I$51="","",Deckblatt!$I$51)
G3: =IF(Deckblatt!$I$54="","",Deckblatt!$I$54)
A5: Name | B5: Vorname | C5: Jg. 4-Stellig | D5: Bezirk- schiessen | E5: Einzelwett- schiessen | F5: Kantonal Stich HD | G5: Feld-schiessen | H5: Total
H6: =IF(SUM(Tabelle145[[#This Row],[Bezirk- schiessen]:[Feld-schiessen]])>0,SUM(Tabelle145[[#This Row],[Bezirk- schiessen]:[Feld-schiessen]]),"")
H7: =IF(SUM(Tabelle145[[#This Row],[Bezirk- schiessen]:[Feld-schiessen]])>0,SUM(Tabelle145[[#This Row],[Bezirk- schiessen]:[Feld-schiessen]]),"")
H8: =IF(SUM(Tabelle145[[#This Row],[Bezirk- schiessen]:[Feld-schiessen]])>0,SUM(Tabelle145[[#This Row],[Bezirk- schiessen]:[Feld-schiessen]]),"")
H9: =IF(SUM(Tabelle145[[#This Row],[Bezirk- schiessen]:[Feld-schiessen]])>0,SUM(Tabelle145[[#This Row],[Bezirk- schiessen]:[Feld-schiessen]]),"")
H10: =IF(SUM(Tabelle145[[#This Row],[Bezirk- schiessen]:[Feld-schiessen]])>0,SUM(Tabelle145[[#This Row],[Bezirk- schiessen]:[Feld-schiessen]]),"")
H11: =IF(SUM(Tabelle145[[#This Row],[Bezirk- schiessen]:[Feld-schiessen]])>0,SUM(Tabelle145[[#This Row],[Bezirk- schiessen]:[Feld-schiessen]]),"")
H12: =IF(SUM(Tabelle145[[#This Row],[Bezirk- schiessen]:[Feld-schiessen]])>0,SUM(Tabelle145[[#This Row],[Bezirk- schiessen]:[Feld-schiessen]]),"")
H13: =IF(SUM(Tabelle145[[#This Row],[Bezirk- schiessen]:[Feld-schiessen]])>0,SUM(Tabelle145[[#This Row],[Bezirk- schiessen]:[Feld-schiessen]]),"")
H14: =IF(SUM(Tabelle145[[#This Row],[Bezirk- schiessen]:[Feld-schiessen]])>0,SUM(Tabelle145[[#This Row],[Bezirk- schiessen]:[Feld-schiessen]]),"")
H15: =IF(SUM(Tabelle145[[#This Row],[Bezirk- schiessen]:[Feld-schiessen]])>0,SUM(Tabelle145[[#This Row],[Bezirk- schiessen]:[Feld-schiessen]]),"")
H16: =IF(SUM(Tabelle145[[#This Row],[Bezirk- schiessen]:[Feld-schiessen]])>0,SUM(Tabelle145[[#This Row],[Bezirk- schiessen]:[Feld-schiessen]]),"")
H17: =IF(SUM(Tabelle145[[#This Row],[Bezirk- schiessen]:[Feld-schiessen]])>0,SUM(Tabelle145[[#This Row],[Bezirk- schiessen]:[Feld-schiessen]]),"")
... H54: =IF(SUM(Tabelle145[[#This Row],[Bezirk- schiessen]:[Feld-schiessen]])>0,SUM(Tabelle145[[#This Row],[Bezirk- schiessen]:[Feld-schiessen]]),"")

Sheet Tabelle1
